BEGIN:VCALENDAR
VERSION:2.0
PRODID:-//Tukios.com/
BEGIN:VEVENT
UID:d91b85fe-9742-4ff0-9880-1cd60320be96@www.shortsfuneralchapel.com
DTSTAMP:20260421T023618Z
DTSTART:20260501T180000Z
DTEND:20260501T190000Z
SUMMARY:Burial
DESCRIPTION:
URL:https://www.shortsfuneralchapel.com/obituaries/lauren-hartke
LOCATION:Viola Cemetery 1026 Viola Rd  Viola ID 83872
GEO:46.8380601;-117.0340738
END:VEVENT
END:VCALENDAR