BEGIN:VCALENDAR
VERSION:2.0
PRODID:-//Tukios.com/
BEGIN:VEVENT
UID:97e7478d-0b0b-4e54-84f1-7e85e8977474@www.shortsfuneralchapel.com
DTSTAMP:20260421T023409Z
DTSTART:20260502T210000Z
DTEND:20260502T220000Z
SUMMARY:Memorial Service
DESCRIPTION:
URL:https://www.shortsfuneralchapel.com/obituaries/lauren-hartke
LOCATION:Moscow Church of the Nazarene 1400 E 7th St  Moscow ID 83843
GEO:46.7294005;-116.9814591
END:VEVENT
END:VCALENDAR